BEGIN:VCALENDAR
VERSION:2.0
PRODID:-//The Lincoln Forum - ECPv6.15.13//NONSGML v1.0//EN
CALSCALE:GREGORIAN
METHOD:PUBLISH
X-WR-CALNAME:The Lincoln Forum
X-ORIGINAL-URL:https://lincolnforum.org
X-WR-CALDESC:Events for The Lincoln Forum
REFRESH-INTERVAL;VALUE=DURATION:PT1H
X-Robots-Tag:noindex
X-PUBLISHED-TTL:PT1H
BEGIN:VTIMEZONE
TZID:America/Chicago
BEGIN:DAYLIGHT
TZOFFSETFROM:-0600
TZOFFSETTO:-0500
TZNAME:CDT
DTSTART:20220313T080000
END:DAYLIGHT
BEGIN:STANDARD
TZOFFSETFROM:-0500
TZOFFSETTO:-0600
TZNAME:CST
DTSTART:20221106T070000
END:STANDARD
BEGIN:DAYLIGHT
TZOFFSETFROM:-0600
TZOFFSETTO:-0500
TZNAME:CDT
DTSTART:20230312T080000
END:DAYLIGHT
BEGIN:STANDARD
TZOFFSETFROM:-0500
TZOFFSETTO:-0600
TZNAME:CST
DTSTART:20231105T070000
END:STANDARD
BEGIN:DAYLIGHT
TZOFFSETFROM:-0600
TZOFFSETTO:-0500
TZNAME:CDT
DTSTART:20240310T080000
END:DAYLIGHT
BEGIN:STANDARD
TZOFFSETFROM:-0500
TZOFFSETTO:-0600
TZNAME:CST
DTSTART:20241103T070000
END:STANDARD
END:VTIMEZONE
BEGIN:VEVENT
DTSTART;TZID=America/Chicago:20230209T180000
DTEND;TZID=America/Chicago:20230209T190000
DTSTAMP:20260422T015550
CREATED:20230112T172940Z
LAST-MODIFIED:20230112T173052Z
UID:885-1675965600-1675969200@lincolnforum.org
SUMMARY:2023 Chicago Mayoral Candidate Forum - LIVE televised event
DESCRIPTION:Join us in-person for the 2023 Chicago Mayoral Candidate Forum presented by Fox 32 Chicago\, Lincoln Forum\, the Union League Club and the Chicago Bar Association on Feb 9\, 2023. \nThis LIVE televised candidate forum will feature ALL of the 2023 Chicago mayoral candidates\, including (in ballot order): Ja’Mal Green\, Alderwoman Sophia King\, IL State Rep. Kam Buckner\, Willie Wilson\, Cook County Commissioner Brandon Johnson\, Paul Vallas\, Mayor Lori Lightfoot\, Alderman Roderick Sawyer and U.S. Rep. Chuy Garcia. \nThe candidates will discuss the important issues facing Chicago. Fox 32 Chicago Political Editor Mike Flannery and Fox 32 Anchor Scott Schneider will moderate the forum. \nDoors open at 5:15pm\, everyone attending must be seated by 5:45pm\, the LIVE televised forum begins promptly at 6:00pm CT. The forum is being held in the Lincoln Ballroom of the Union League Club of Chicago\, 65 W. Jackson Blvd. \nTickets are $35 per person plus applicable fees and taxes. \nPurchase tickets here:
URL:https://lincolnforum.org/event/2023-chicago-mayoral-candidate-forum-live-televised-event/
LOCATION:Union League Club of Chicago\, 65 West Jackson Blvd.\, Chicago\, IL\, 60610\, United States
ATTACH;FMTTYPE=image/jpeg:https://lincolnforum.org/wp-content/uploads/2023/01/shutterstock_377732185-scaled.jpg
END:VEVENT
END:VCALENDAR